BEGIN:VCALENDAR
VERSION:2.0
PRODID:-//ChamberMaster//Event Calendar 2.0//EN
METHOD:PUBLISH
X-PUBLISHED-TTL:P3D
REFRESH-INTERVAL:P3D
CALSCALE:GREGORIAN
BEGIN:VEVENT
DTSTART;VALUE=DATE:20260328
DTEND;VALUE=DATE:20260329
TRANSP:TRANSPARENT
X-MICROSOFT-CDO-ALLDAYEVENT:TRUE
SUMMARY:Victorian Classic
DESCRIPTION:The Victorian Classic a legendary race held since the 1970s is back! \n\nJoin us on March 28\, 2026 for the traditional 10K or a Joe Head Family Fun Run sponsored by Signature Bank through beautiful Eureka Springs!\n\nRegistration includes a race T-shirt\, our classically cool medal\, free soup\, and a post-race beverage! You'll also enjoy coupons and special discounts on an overnight stay or make it a day trip and explore Eureka Springs\, the coolest little town around\, known for fantastic shopping\, hiking\, and dining!\n\nBest of all\, this event is 100% for charity\, benefiting Youth Sports at the Eureka Springs Community Center!\n\nThis time honored tradition is brought back to you by the Eureka Springs Community Center\, Bubba's Barbecue\, and the 1886 Crescent Hotel and Spa! \n\nRun for fun\; run for nostalgia\; run for a great cause!\n\n\nRegister at https://app.regwiz.io/register/victorian/1179
X-ALT-DESC;FMTTYPE=text/html:<p dir="ltr" font-size:="" helvetica="" line-height:="" margin-bottom:="" margin-top:="" segoe="" style="color: rgb(36\, 36\, 36)\; font-family: " ui="" web="" west=""><span style="color:#000000\;"><span style="font-size:16px\;"><span style="font-family:arial\;"><span data-olk-copy-source="MessageBody" style="border: 0px\; font-variant-numeric: normal\; font-variant-east-asian: normal\; font-variant-alternates: normal\; font-variant-position: inherit\; font-variant-emoji: inherit\; font-stretch: inherit\; line-height: inherit\; font-optical-sizing: inherit\; font-size-adjust: inherit\; font-kerning: inherit\; font-feature-settings: inherit\; font-variation-settings: inherit\; font-language-override: inherit\; margin: 0px\; padding: 0px\; vertical-align: baseline\; white-space-collapse: preserve\; background-color: transparent\;">The Victorian Classic&mdash\;a legendary race held since the 1970s&mdash\;is back! </span></span></span></span></p>\n\n<p dir="ltr" font-size:="" helvetica="" line-height:="" margin-bottom:="" margin-top:="" segoe="" style="color: rgb(36\, 36\, 36)\; font-family: " ui="" web="" west=""><span style="color:#000000\;"><span style="font-size:16px\;"><span style="font-family:arial\;"><span style="border: 0px\; font-variant-numeric: normal\; font-variant-east-asian: normal\; font-variant-alternates: normal\; font-variant-position: inherit\; font-variant-emoji: inherit\; font-stretch: inherit\; line-height: inherit\; font-optical-sizing: inherit\; font-size-adjust: inherit\; font-kerning: inherit\; font-feature-settings: inherit\; font-variation-settings: inherit\; font-language-override: inherit\; margin: 0px\; padding: 0px\; vertical-align: baseline\; white-space-collapse: preserve\; background-color: transparent\;">Join us on March 28\, 2026 for the traditional 10K or a </span></span></span></span><!--StartFragment--><span style="font-size:16px\;"><span style="color:#000000\;"><span style="font-family:arial\;"><span data-olk-copy-source="MessageBody">Joe Head Family Fun Run sponsored by Signature Bank</span></span></span></span><!--EndFragment--><span style="color:#000000\;"><span style="font-size:16px\;"><span style="font-family:arial\;"><span style="border: 0px\; font-variant-numeric: normal\; font-variant-east-asian: normal\; font-variant-alternates: normal\; font-variant-position: inherit\; font-variant-emoji: inherit\; font-stretch: inherit\; line-height: inherit\; font-optical-sizing: inherit\; font-size-adjust: inherit\; font-kerning: inherit\; font-feature-settings: inherit\; font-variation-settings: inherit\; font-language-override: inherit\; margin: 0px\; padding: 0px\; vertical-align: baseline\; white-space-collapse: preserve\; background-color: transparent\;"> through beautiful Eureka Springs!</span></span></span></span></p>\n\n<p dir="ltr" font-size:="" helvetica="" line-height:="" margin-bottom:="" margin-top:="" segoe="" style="color: rgb(36\, 36\, 36)\; font-family: " ui="" web="" west=""><span style="color:#000000\;"><span style="font-size:16px\;"><span style="font-family:arial\;"><span style="border: 0px\; font-variant-numeric: normal\; font-variant-east-asian: normal\; font-variant-alternates: normal\; font-variant-position: inherit\; font-variant-emoji: inherit\; font-stretch: inherit\; line-height: inherit\; font-optical-sizing: inherit\; font-size-adjust: inherit\; font-kerning: inherit\; font-feature-settings: inherit\; font-variation-settings: inherit\; font-language-override: inherit\; margin: 0px\; padding: 0px\; vertical-align: baseline\; white-space-collapse: preserve\; background-color: transparent\;">Registration includes a race T-shirt\, our classically cool medal\, free soup\, and a post-race beverage! You&rsquo\;ll also enjoy coupons and special discounts on an overnight stay&mdash\;or make it a day trip and explore Eureka Springs\, the coolest little town around\, known for fantastic shopping\, hiking\, and dining!</span></span></span></span></p>\n\n<p dir="ltr" font-size:="" helvetica="" line-height:="" margin-bottom:="" margin-top:="" segoe="" style="color: rgb(36\, 36\, 36)\; font-family: " ui="" web="" west=""><span style="color:#000000\;"><span style="font-size:16px\;"><span style="font-family:arial\;"><span style="border: 0px\; font-variant-numeric: normal\; font-variant-east-asian: normal\; font-variant-alternates: normal\; font-variant-position: inherit\; font-variant-emoji: inherit\; font-stretch: inherit\; line-height: inherit\; font-optical-sizing: inherit\; font-size-adjust: inherit\; font-kerning: inherit\; font-feature-settings: inherit\; font-variation-settings: inherit\; font-language-override: inherit\; margin: 0px\; padding: 0px\; vertical-align: baseline\; white-space-collapse: preserve\; background-color: transparent\;">Best of all\, this event is 100% for charity\, benefiting Youth Sports at the Eureka Springs Community Center!</span></span></span></span></p>\n\n<p dir="ltr" font-size:="" helvetica="" line-height:="" margin-bottom:="" margin-top:="" segoe="" style="color: rgb(36\, 36\, 36)\; font-family: " ui="" web="" west=""><span style="color:#000000\;"><span style="font-size:16px\;"><span style="font-family:arial\;"><span style="border: 0px\; font-variant-numeric: normal\; font-variant-east-asian: normal\; font-variant-alternates: normal\; font-variant-position: inherit\; font-variant-emoji: inherit\; font-stretch: inherit\; line-height: inherit\; font-optical-sizing: inherit\; font-size-adjust: inherit\; font-kerning: inherit\; font-feature-settings: inherit\; font-variation-settings: inherit\; font-language-override: inherit\; margin: 0px\; padding: 0px\; vertical-align: baseline\; white-space-collapse: preserve\; background-color: transparent\;">This time honored tradition is brought back to you by the Eureka Springs Community Center\, Bubba&rsquo\;s Barbecue\, and the 1886 Crescent Hotel and Spa!&nbsp\;</span></span></span></span></p>\n\n<p dir="ltr" font-size:="" helvetica="" line-height:="" margin-bottom:="" margin-top:="" segoe="" style="color: rgb(36\, 36\, 36)\; font-family: " ui="" web="" west=""><span style="color:#000000\;"><span style="font-size:16px\;"><span style="font-family:arial\;"><span style="border: 0px\; font-variant-numeric: normal\; font-variant-east-asian: normal\; font-variant-alternates: normal\; font-variant-position: inherit\; font-variant-emoji: inherit\; font-stretch: inherit\; line-height: inherit\; font-optical-sizing: inherit\; font-size-adjust: inherit\; font-kerning: inherit\; font-feature-settings: inherit\; font-variation-settings: inherit\; font-language-override: inherit\; margin: 0px\; padding: 0px\; vertical-align: baseline\; white-space-collapse: preserve\; background-color: transparent\;">Run for fun\; run for nostalgia\; run for a great cause!</span></span></span></span></p>\n\n<div color:="" dir="auto" font-feature-settings:="" font-kerning:="" font-language-override:="" font-optical-sizing:="" font-size-adjust:="" font-variation-settings:="" helvetica="" margin:="" padding:="" segoe="" style="border: 0px\; font-variant-numeric: inherit\; font-variant-east-asian: inherit\; font-variant-alternates: inherit\; font-variant-position: inherit\; font-variant-emoji: inherit\; font-stretch: inherit\; font-size: 15px\; line-height: inherit\; font-family: " ui="" vertical-align:="" web="" west="">\n<div dir="auto" style="border: 0px\; font: inherit\; margin: 0px\; padding: 0px\; vertical-align: baseline\; color: inherit\;"><span style="font-size:16px\;"><span style="font-family:arial\;"><span style="color:#000000\;"><span style="border: 0px\; font-variant-numeric: normal\; font-variant-east-asian: normal\; font-variant-alternates: normal\; font-variant-position: inherit\; font-variant-emoji: inherit\; font-stretch: inherit\; line-height: inherit\; font-optical-sizing: inherit\; font-size-adjust: inherit\; font-kerning: inherit\; font-feature-settings: inherit\; font-variation-settings: inherit\; font-language-override: inherit\; margin: 0px\; padding: 0px\; vertical-align: baseline\; white-space-collapse: preserve\; background-color: transparent\;">Register at </span></span><a data-auth="NotApplicable" data-linkindex="2" href="https://app.regwiz.io/register/victorian/1179" rel="noopener noreferrer" style="border: 0px rgb(55\, 120\, 211)\; font: inherit\; margin: 0px\; padding: 0px\; vertical-align: baseline\; color: rgb(102\, 157\, 246)\;" target="_blank" title="https://app.regwiz.io/register/victorian/1179"><span style="color:#000000\;">https://app.regwiz.io/register/victorian/1179</span></a></span></span></div>\n</div>\n
LOCATION:Eureka Springs Community Center 44 Kingshighway Eureka Springs\, AR 72632
UID:e.2743.10896
SEQUENCE:3
DTSTAMP:20260423T184143Z
URL:http://eurekaspringschamberar.chambermaster.com/events/details/victorian-classic-10896
END:VEVENT

END:VCALENDAR
